BEGIN:VCALENDAR
VERSION:2.0
PRODID:-//Eventin//Event Calendar//EN
CALSCALE:GREGORIAN
METHOD:PUBLISH
BEGIN:VEVENT
UID:c6566a127d5794788149791571f6f2fe@sescro.com.br
SUMMARY:Show de Dia dos Pais
DESCRIPTION:Evento: Show de Dia dos Pais Data: 10 de agosto de 2025Local: C
 omplexo Madeira-Mamoré
LOCATION:Online
DTSTAMP:20260421T234555Z
DTSTART:20250810T200000Z
DTEND:20260421T234555Z
END:VEVENT
END:VCALENDAR
