BEGIN:VCALENDAR
VERSION:2.0
PRODID:-//Eventin//Event Calendar//EN
CALSCALE:GREGORIAN
METHOD:PUBLISH
BEGIN:VEVENT
UID:bdd73d973071c59aec1344ba54607387@sescro.com.br
SUMMARY:Show de Dia dos Pais
DESCRIPTION:Evento: Show de Dia dos Pais Data: 17 de agosto de 2025Local: C
 omplexo Madeira-Mamoré
LOCATION:Online
DTSTAMP:20260421T234546Z
DTSTART:20250817T200000Z
DTEND:20260421T234546Z
END:VEVENT
END:VCALENDAR
