BEGIN:VCALENDAR
VERSION:2.0
PRODID:-//Eventin//Event Calendar//EN
CALSCALE:GREGORIAN
METHOD:PUBLISH
BEGIN:VEVENT
UID:50c3596757ed84b45e3b4c1b1d9fc1e9@sescro.com.br
SUMMARY:Copa Sesc
DESCRIPTION:Evento: Copa Sesc Data: 25\, 26 e 27 de setembro de 2025Local: 
 Nova Mamoré
LOCATION:Online
DTSTAMP:20260421T215541Z
DTSTART:20250925T040000Z
DTEND:20260421T215541Z
END:VEVENT
END:VCALENDAR
