BEGIN:VCALENDAR
VERSION:2.0
PRODID:-//Eventin//Event Calendar//EN
CALSCALE:GREGORIAN
METHOD:PUBLISH
BEGIN:VEVENT
UID:6c50737d739011e20570e96f9f3d6bd7@sescro.com.br
SUMMARY:Jocom
DESCRIPTION:Evento: JocomData: 01 de agosto de 2025Local: Porto Velho
LOCATION:Online
DTSTAMP:20260421T215542Z
DTSTART:20250801T040000Z
DTEND:20260421T215542Z
END:VEVENT
END:VCALENDAR
