BEGIN:VCALENDAR
VERSION:2.0
PRODID:-//Eventin//Event Calendar//EN
CALSCALE:GREGORIAN
METHOD:PUBLISH
BEGIN:VEVENT
UID:b1d0ea895467e96b6d815590e85a3bc2@sescro.com.br
SUMMARY:Circuito Sesc de Esportes
DESCRIPTION:Evento: Circuito Sesc de Esportes - NataçãoData: 23 de agosto
  de 2025Local: Porto Velho
LOCATION:Online
DTSTAMP:20260421T215601Z
DTSTART:20250823T140000Z
DTEND:20260421T215601Z
END:VEVENT
END:VCALENDAR
