BEGIN:VCALENDAR
VERSION:2.0
PRODID:-//Eventin//Event Calendar//EN
CALSCALE:GREGORIAN
METHOD:PUBLISH
BEGIN:VEVENT
UID:82f5be502183215e0a38bf01e01921e0@sescro.com.br
SUMMARY:Circuito Sesc de Esportes
DESCRIPTION:Evento: Circuito Sesc de Esportes - QueimadaData: 30 de agosto 
 de 2025Local: Porto Velho
LOCATION:Online
DTSTAMP:20260421T215540Z
DTSTART:20250830T040000Z
DTEND:20260421T215540Z
END:VEVENT
END:VCALENDAR
