BEGIN:VCALENDAR
VERSION:2.0
PRODID:-//Eventin//Event Calendar//EN
CALSCALE:GREGORIAN
METHOD:PUBLISH
BEGIN:VEVENT
UID:5664c53ff2f002ef14c83f745f44eccc@sescro.com.br
SUMMARY:Circuito Sesc de Esportes
DESCRIPTION:Evento: Circuito Sesc de Esportes - FutsalData: 25 a 29 de agos
 to de 2025Local: Porto Velho
LOCATION:Online
DTSTAMP:20260421T215540Z
DTSTART:20250825T040000Z
DTEND:20260421T215540Z
END:VEVENT
END:VCALENDAR
