BEGIN:VCALENDAR
VERSION:2.0
PRODID:-//Eventin//Event Calendar//EN
CALSCALE:GREGORIAN
METHOD:PUBLISH
BEGIN:VEVENT
UID:dd36d46817b5ef16eb10967abc5b095f@sescro.com.br
SUMMARY:Copa Sesc
DESCRIPTION:Evento: Copa SescData: 11 de setembro de 2025Local: Ariquemes
LOCATION:Online
DTSTAMP:20260421T215541Z
DTSTART:20250911T040000Z
DTEND:20260421T215541Z
END:VEVENT
END:VCALENDAR
