BEGIN:VCALENDAR
VERSION:2.0
PRODID:-//Eventin//Event Calendar//EN
CALSCALE:GREGORIAN
METHOD:PUBLISH
BEGIN:VEVENT
UID:ac6e6eaff10aff263366919e90db44c5@sescro.com.br
SUMMARY:Jocom
DESCRIPTION:Evento: JocomData: 01 a 30 de setembro de 2025Local: Porto Velh
 o
LOCATION:Online
DTSTAMP:20260421T215601Z
DTSTART:20250901T040000Z
DTEND:20260421T215601Z
END:VEVENT
END:VCALENDAR
