BEGIN:VCALENDAR
VERSION:2.0
PRODID:-//Eventin//Event Calendar//EN
CALSCALE:GREGORIAN
METHOD:PUBLISH
BEGIN:VEVENT
UID:4d34d6668cb1373bc7db0ba1621932ba@sescro.com.br
SUMMARY:Semana Move
DESCRIPTION:Evento: Semana MoveData: 22 a 28 de setembro de 2025Local: Port
 o Velho
LOCATION:Online
DTSTAMP:20260421T215443Z
DTSTART:20250922T040000Z
DTEND:20260421T215443Z
END:VEVENT
END:VCALENDAR
