BEGIN:VCALENDAR
VERSION:2.0
PRODID:-//Eventin//Event Calendar//EN
CALSCALE:GREGORIAN
METHOD:PUBLISH
BEGIN:VEVENT
UID:8532f5ce381c83e256240217df4b7406@sescro.com.br
SUMMARY:Paracopa
DESCRIPTION:Evento: ParacopaData: 01 de outubro de 2025Local: Porto Velho
LOCATION:Online
DTSTAMP:20260421T215443Z
DTSTART:20251001T040000Z
DTEND:20260421T215443Z
END:VEVENT
END:VCALENDAR
