BEGIN:VCALENDAR
VERSION:2.0
PRODID:-//Eventin//Event Calendar//EN
CALSCALE:GREGORIAN
METHOD:PUBLISH
BEGIN:VEVENT
UID:aa80f301761a5c2d27c930dc1575239a@sescro.com.br
SUMMARY:Circuito Sesc de Corridas
DESCRIPTION:Evento: Circuito Sesc de CorridasData: 30 de novembro de 2025Lo
 cal: Porto Velho
LOCATION:Online
DTSTAMP:20260421T215602Z
DTSTART:20251130T040000Z
DTEND:20260421T215602Z
END:VEVENT
END:VCALENDAR
