BEGIN:VCALENDAR
VERSION:2.0
PRODID:-//Eventin//Event Calendar//EN
CALSCALE:GREGORIAN
METHOD:PUBLISH
BEGIN:VEVENT
UID:c6836367dc5395b5bd42a60cb1aaacae@sescro.com.br
SUMMARY:Copinha Sesc
DESCRIPTION:Evento: Copinha SescData: 11 a 14 de setembro de 2025Local: Ari
 quemes
LOCATION:Online
DTSTAMP:20260421T200949Z
DTSTART:20250911T040000Z
DTEND:20260421T200949Z
END:VEVENT
END:VCALENDAR
