BEGIN:VCALENDAR
VERSION:2.0
PRODID:-//Eventin//Event Calendar//EN
CALSCALE:GREGORIAN
METHOD:PUBLISH
BEGIN:VEVENT
UID:2c9ebed135e2709375ea368372749c7d@sescro.com.br
SUMMARY:Sesc Criança
DESCRIPTION:Evento: Sesc CriançaData: 10 de outubro de 2025Local: Ariqueme
 s
LOCATION:Online
DTSTAMP:20260421T200947Z
DTSTART:20251010T040000Z
DTEND:20260421T200947Z
END:VEVENT
END:VCALENDAR
