BEGIN:VCALENDAR
VERSION:2.0
PRODID:-//Eventin//Event Calendar//EN
CALSCALE:GREGORIAN
METHOD:PUBLISH
BEGIN:VEVENT
UID:ec323ff4da0205ceba03b20967f63028@sescro.com.br
SUMMARY:Copa Sesc
DESCRIPTION:Evento: Copa Sesc Data: 19 a 23 de novembro de 2025Local: Ariqu
 emes
LOCATION:Online
DTSTAMP:20260421T200948Z
DTSTART:20251119T040000Z
DTEND:20260421T200948Z
END:VEVENT
END:VCALENDAR
