BEGIN:VCALENDAR
VERSION:2.0
PRODID:-//Eventin//Event Calendar//EN
CALSCALE:GREGORIAN
METHOD:PUBLISH
BEGIN:VEVENT
UID:68432494189b07300d6de2c318a59510@sescro.com.br
SUMMARY:Noite em família
DESCRIPTION:Evento: Noite em família Data: 13 de dezembro de 2025Local: Ar
 iquemes
LOCATION:Online
DTSTAMP:20260421T200947Z
DTSTART:20251213T040000Z
DTEND:20260421T200947Z
END:VEVENT
END:VCALENDAR
