BEGIN:VCALENDAR
VERSION:2.0
PRODID:-//Eventin//Event Calendar//EN
CALSCALE:GREGORIAN
METHOD:PUBLISH
BEGIN:VEVENT
UID:c4bdde88ffb67d0688d3f530155dbdc1@sescro.com.br
SUMMARY:Sábado no Sesc
DESCRIPTION:Evento: Sábado no Sesc ClementinaData: 02 de agosto de 2025Loc
 al: Sesc Clementina
LOCATION:Online
DTSTAMP:20260421T200912Z
DTSTART:20250802T040000Z
DTEND:20260421T200912Z
END:VEVENT
END:VCALENDAR
