BEGIN:VCALENDAR
VERSION:2.0
PRODID:-//Eventin//Event Calendar//EN
CALSCALE:GREGORIAN
METHOD:PUBLISH
BEGIN:VEVENT
UID:563b7fc8ec75e6748ce95e39d81615d5@sescro.com.br
SUMMARY:Recriando memórias
DESCRIPTION:Evento: Recriando memórias Data: 09 de agosto de 2025Local: Se
 sc Clementina
LOCATION:Online
DTSTAMP:20260421T200909Z
DTSTART:20250809T040000Z
DTEND:20260421T200909Z
END:VEVENT
END:VCALENDAR
