BEGIN:VCALENDAR
VERSION:2.0
PRODID:-//Eventin//Event Calendar//EN
CALSCALE:GREGORIAN
METHOD:PUBLISH
BEGIN:VEVENT
UID:7ede28d4237868d295fe668f936b8283@sescro.com.br
SUMMARY:Movimenta melhor idade
DESCRIPTION:Evento: Movimenta melhor idadeData: 16 de agosto de 2025Local: 
 Sesc Clementina
LOCATION:Online
DTSTAMP:20260421T200913Z
DTSTART:20250816T040000Z
DTEND:20260421T200913Z
END:VEVENT
END:VCALENDAR
