BEGIN:VCALENDAR
VERSION:2.0
PRODID:-//Eventin//Event Calendar//EN
CALSCALE:GREGORIAN
METHOD:PUBLISH
BEGIN:VEVENT
UID:994de684e3509c209f425684c08cc0e2@sescro.com.br
SUMMARY:Sol\, som e companhia
DESCRIPTION:Evento: Sol\, som e companhia Data: 23 de agosto de 2025Local: 
 Sesc Clementina
LOCATION:Online
DTSTAMP:20260421T200910Z
DTSTART:20250823T040000Z
DTEND:20260421T200910Z
END:VEVENT
END:VCALENDAR
