BEGIN:VCALENDAR
VERSION:2.0
PRODID:-//Eventin//Event Calendar//EN
CALSCALE:GREGORIAN
METHOD:PUBLISH
BEGIN:VEVENT
UID:2375f3afcb33edb8b356e618f8873cfc@sescro.com.br
SUMMARY:Torneios
DESCRIPTION:Evento: Torneios de Vôlei e SocietyData: 30 de agosto de 2025L
 ocal: Sesc Clementina
LOCATION:Online
DTSTAMP:20260421T200835Z
DTSTART:20250830T040000Z
DTEND:20260421T200835Z
END:VEVENT
END:VCALENDAR
