BEGIN:VCALENDAR
VERSION:2.0
PRODID:-//Eventin//Event Calendar//EN
CALSCALE:GREGORIAN
METHOD:PUBLISH
BEGIN:VEVENT
UID:1203e08d8547771dfff8e3e615a31b7c@sescro.com.br
SUMMARY:Baile de Aniversário Sesc Clementina
DESCRIPTION:Evento: Baile de Aniversário Sesc Clementina Data: 24 de outub
 ro de 2025Local: Sesc Clementina
LOCATION:Online
DTSTAMP:20260421T200910Z
DTSTART:20251024T040000Z
DTEND:20260421T200910Z
END:VEVENT
END:VCALENDAR
