BEGIN:VCALENDAR
VERSION:2.0
PRODID:-//Eventin//Event Calendar//EN
CALSCALE:GREGORIAN
METHOD:PUBLISH
BEGIN:VEVENT
UID:80942a513932b88dc90e25a02600bd47@sescro.com.br
SUMMARY:Festival de Brincadeiras Populares
DESCRIPTION:O Serviço Social do Comércio – Sesc realiza a partir do dia
  28 de julho uma extensa programação gratuita no Complexo Madeira-Mamoré
 . A coordenação de recreação leva brincadeiras populares e grandes apre
 sentações musicais para toda família. A ideia é proporcionar um momento
  de lazer e diversão aos trabalhadores do comércio e seus dependentes\, a
 lém da população em geral.\n\n\n\n📍 SERVIÇO: Festival de Brincadeira
 s Populares no Complexo Madeira-Mamoré🗓️ Data: 28 de julho
LOCATION:Online
DTSTAMP:20260421T200911Z
DTSTART:20240728T210000Z
DTEND:20260422T000000Z
END:VEVENT
END:VCALENDAR
