BEGIN:VCALENDAR
VERSION:2.0
PRODID:-//Eventin//Event Calendar//EN
CALSCALE:GREGORIAN
METHOD:PUBLISH
BEGIN:VEVENT
UID:dc2eeaaba179171a920dab6d97627295@sescro.com.br
SUMMARY:JOCOM - Jogo dos trabalhadores do comércio
DESCRIPTION:O Jogos dos Trabalhadores do Comércio – JOCOM é um evento e
 sportivo que reúne trabalhadores do comércio de diferentes empresas e set
 ores. O objetivo do JOCOM é promover a integração\, o espírito esportiv
 o e a qualidade de vida entre os participantes\, além de estimular a prát
 ica regular de atividades físicas e o bem-estar geral. 📍 SERVIÇO: JOC
 OM - Jogo dos trabalhadores do comércio🗓️ Data: a partir do dia 12 de
  agosto
LOCATION:Online
DTSTAMP:20260421T200835Z
DTSTART:20240812T220000Z
DTEND:20260421T200835Z
END:VEVENT
END:VCALENDAR
