BEGIN:VCALENDAR
VERSION:2.0
PRODID:-//Eventin//Event Calendar//EN
CALSCALE:GREGORIAN
METHOD:PUBLISH
BEGIN:VEVENT
UID:3091dec243987490b27320f60dc807c3@sescro.com.br
SUMMARY:Copa Sesc - Ji-Paraná
DESCRIPTION:A ideia é promover o lazer entre os participantes. As modalida
 des que serão realizadas são as de futsal masculino\, vôlei de areia mas
 culino e vôlei de areia misto.
LOCATION:Online
DTSTAMP:20260421T164723Z
DTSTART:20240906T040000Z
DTEND:20260421T164723Z
END:VEVENT
END:VCALENDAR
