BEGIN:VCALENDAR
VERSION:2.0
PRODID:-//Eventin//Event Calendar//EN
CALSCALE:GREGORIAN
METHOD:PUBLISH
BEGIN:VEVENT
UID:7095301ec041d74c4633ab91305adf31@sescro.com.br
SUMMARY:1º Passeio Ciclístico em Nova Mamoré
DESCRIPTION:Uma atividade de lazer totalmente gratuita para você aproveita
 r com a família e os amigos.\n\n\n\n🗓️ Data: 01/12🕓 Horário: 7h
 ➡️ Saída: Sesc Nova Mamoré➡️ Chegada: Campo do Jonas - Bairro Pla
 nalto\n\n\n\n📄 Inscrição: 1 kg de alimento não perecível.👕 Os pri
 meiros 30 inscritos presencialmente ganharão uma camiseta do evento!📍 L
 ocal de inscrição: Av. 12 de Outubro\, 4042\n\n\n\n⚠️ Não esqueça d
 e:Levar sua garrafinha de água 🍶\;Trazer disposição 😌\;Ter energia
  ✨\;E muita vontade de se aventurar 😎.
LOCATION:Online
DTSTAMP:20260421T200913Z
DTSTART:20241201T230000Z
DTEND:20260422T020000Z
END:VEVENT
END:VCALENDAR
