BEGIN:VCALENDAR
VERSION:2.0
PRODID:-//Eventin//Event Calendar//EN
CALSCALE:GREGORIAN
METHOD:PUBLISH
BEGIN:VEVENT
UID:f3a19905acfd67912538c09cdceedf1b@sescro.com.br
SUMMARY:Festival de Natação
DESCRIPTION:Evento: Circuito Sesc de Esporte - Circuito de NataçãoData: 2
 6/04/2025Local: Sesc Esplanada
LOCATION:Online
DTSTAMP:20260421T234543Z
DTSTART:20250426T130000Z
DTEND:20260421T234543Z
END:VEVENT
END:VCALENDAR
