BEGIN:VCALENDAR
VERSION:2.0
PRODID:-//Eventin//Event Calendar//EN
CALSCALE:GREGORIAN
METHOD:PUBLISH
BEGIN:VEVENT
UID:b960471f62b3583b985f00d091e7f5f2@sescro.com.br
SUMMARY:Dia do Desafio
DESCRIPTION:Evento: Dia do DesafioData: 28/05/2025Local: Sesc Esplanada
LOCATION:Online
DTSTAMP:20260421T234524Z
DTSTART:20250528T040000Z
DTEND:20260421T234524Z
END:VEVENT
END:VCALENDAR
