BEGIN:VCALENDAR
VERSION:2.0
PRODID:-//Eventin//Event Calendar//EN
CALSCALE:GREGORIAN
METHOD:PUBLISH
BEGIN:VEVENT
UID:54882dcb64b4ae8040ec629f5bb638f1@sescro.com.br
SUMMARY:Jogos dos Comerciários
DESCRIPTION:Evento: Jogos dos Comerciários de RondôniaData: 01/06 a 12/07
 Local: Sesc Esplanada
LOCATION:Online
DTSTAMP:20260421T234544Z
DTSTART:20250601T040000Z
DTEND:20260421T234544Z
END:VEVENT
END:VCALENDAR
