BEGIN:VCALENDAR
VERSION:2.0
PRODID:-//Eventin//Event Calendar//EN
CALSCALE:GREGORIAN
METHOD:PUBLISH
BEGIN:VEVENT
UID:7f17d6ec1f4f6e45ad9fbf242dc9281c@sescro.com.br
SUMMARY:Aulões Dia das Mães
DESCRIPTION:Evento: Aulões Especiais de Dia das Mães Data: Os aulões oco
 rrerão de acordo com a programação interna das atividades de ginástica 
 e hidroginásticaLocal: Sesc Esplanada
LOCATION:Online
DTSTAMP:20260421T234426Z
DTSTART:20250502T040000Z
DTEND:20260421T234426Z
END:VEVENT
END:VCALENDAR
