BEGIN:VCALENDAR
VERSION:2.0
PRODID:-//Eventin//Event Calendar//EN
CALSCALE:GREGORIAN
METHOD:PUBLISH
BEGIN:VEVENT
UID:68d4d07fb81ddf4da21c8d527ac7e8cd@sescro.com.br
SUMMARY:Semana S - Ariquemes
DESCRIPTION:Evento: Semana SData: 12 a 14 de maio de 2025Local: Sesc Arique
 mes
LOCATION:Online
DTSTAMP:20260421T234542Z
DTSTART:20250512T040000Z
DTEND:20260421T234542Z
END:VEVENT
END:VCALENDAR
