BEGIN:VCALENDAR
VERSION:2.0
PRODID:-//Eventin//Event Calendar//EN
CALSCALE:GREGORIAN
METHOD:PUBLISH
BEGIN:VEVENT
UID:dc114e7034b05f4e7e3260643f5c0e7a@sescro.com.br
SUMMARY:Dia do Desafio - Ariquemes
DESCRIPTION:Evento: Dia do Desafio em AriquemesData: 28/05/2025Local: Sesc 
 Ariquemes
LOCATION:Online
DTSTAMP:20260421T234544Z
DTSTART:20250528T040000Z
DTEND:20260421T234544Z
END:VEVENT
END:VCALENDAR
