BEGIN:VCALENDAR
VERSION:2.0
PRODID:-//Eventin//Event Calendar//EN
CALSCALE:GREGORIAN
METHOD:PUBLISH
BEGIN:VEVENT
UID:c85d4bfed1ea67c4e3e72ba0bc83f3ff@sescro.com.br
SUMMARY:Corrida Marco Zero
DESCRIPTION:Evento: Corrida Internacional Marco Zero Data: 20/04/2025 Local
 : Ji-Paraná
LOCATION:Online
DTSTAMP:20260421T234526Z
DTSTART:20250420T040000Z
DTEND:20260421T234526Z
END:VEVENT
END:VCALENDAR
