BEGIN:VCALENDAR
VERSION:2.0
PRODID:-//Eventin//Event Calendar//EN
CALSCALE:GREGORIAN
METHOD:PUBLISH
BEGIN:VEVENT
UID:9c502968a39fdb7c98e870c8d9861e8d@sescro.com.br
SUMMARY:Jogos Estudantis
DESCRIPTION:Evento: Jogos Estudantis do SescData: 12/04/2025Local: Sesc Ji-
 Paraná
LOCATION:Online
DTSTAMP:20260422T014127Z
DTSTART:20250412T040000Z
DTEND:20260422T014127Z
END:VEVENT
END:VCALENDAR
