BEGIN:VCALENDAR
VERSION:2.0
PRODID:-//Eventin//Event Calendar//EN
CALSCALE:GREGORIAN
METHOD:PUBLISH
BEGIN:VEVENT
UID:8e1ca77e634cb8aecb5db873556f0b87@sescro.com.br
SUMMARY:Recreação Itinerante
DESCRIPTION:Evento: Recreação ItineranteData: 01/04/2025Local: Sesc Ji-Pa
 raná
LOCATION:Online
DTSTAMP:20260422T014125Z
DTSTART:20250401T040000Z
DTEND:20260422T014125Z
END:VEVENT
END:VCALENDAR
