BEGIN:VCALENDAR
VERSION:2.0
PRODID:-//Eventin//Event Calendar//EN
CALSCALE:GREGORIAN
METHOD:PUBLISH
BEGIN:VEVENT
UID:4a7387f8819a9eaf3e1766e382dc0796@sescro.com.br
SUMMARY:Encerramento Jogos Estudantis
DESCRIPTION:Evento: Encerramento do Jogos Estudantis do SescData: 10/05/202
 5Local: Sesc Clementina
LOCATION:Online
DTSTAMP:20260422T014135Z
DTSTART:20250510T040000Z
DTEND:20260422T014135Z
END:VEVENT
END:VCALENDAR
