BEGIN:VCALENDAR
VERSION:2.0
PRODID:-//Eventin//Event Calendar//EN
CALSCALE:GREGORIAN
METHOD:PUBLISH
BEGIN:VEVENT
UID:b55cc377662cc1d3b62e6ed398bdb932@sescro.com.br
SUMMARY:Copa Sesc
DESCRIPTION:Evento: Copa SescData: 14 a 16 de junhoLocal: Sesc Presidente M
 édici
LOCATION:Online
DTSTAMP:20260422T014125Z
DTSTART:20250614T040000Z
DTEND:20260422T014125Z
END:VEVENT
END:VCALENDAR
