BEGIN:VCALENDAR
VERSION:2.0
PRODID:-//Eventin//Event Calendar//EN
CALSCALE:GREGORIAN
METHOD:PUBLISH
BEGIN:VEVENT
UID:0041628eb3b15a170e9b49ae8ab55bc5@sescro.com.br
SUMMARY:Dia Mundial do Lazer
DESCRIPTION:Evento: Dia Mundial do LazerData: 18 de abril - Flor do Cacto19
  de abril - Estrada de Ferro Madeira-Mamoré
LOCATION:Online
DTSTAMP:20260422T014146Z
DTSTART:20250418T040000Z
DTEND:20260422T014146Z
END:VEVENT
END:VCALENDAR
