BEGIN:VCALENDAR
VERSION:2.0
PRODID:-//Eventin//Event Calendar//EN
CALSCALE:GREGORIAN
METHOD:PUBLISH
BEGIN:VEVENT
UID:94a92f49259175a5e5b087762b6c116d@sescro.com.br
SUMMARY:Páscoa
DESCRIPTION:Evento: PáscoaData: 20 de abrilLocal: Estrada de Ferro Madeira
 -Mamoré
LOCATION:Online
DTSTAMP:20260422T014127Z
DTSTART:20250420T040000Z
DTEND:20260422T014127Z
END:VEVENT
END:VCALENDAR
