BEGIN:VCALENDAR
VERSION:2.0
PRODID:-//Eventin//Event Calendar//EN
CALSCALE:GREGORIAN
METHOD:PUBLISH
BEGIN:VEVENT
UID:f9a7e727af0ca163c8b05ecdeb4d55a5@sescro.com.br
SUMMARY:Sesc Recreação
DESCRIPTION:Evento: Sesc RecreaçãoData: 5\, 6\, 12\, 13\, 26 e 27 de abri
 l Local: Estrada de Ferro Madeira-Mamoré
LOCATION:Online
DTSTAMP:20260422T014134Z
DTSTART:20250405T040000Z
DTEND:20260422T014134Z
END:VEVENT
END:VCALENDAR
