BEGIN:VCALENDAR
VERSION:2.0
PRODID:-//Eventin//Event Calendar//EN
CALSCALE:GREGORIAN
METHOD:PUBLISH
BEGIN:VEVENT
UID:ac6e2a24a59d73ca7e2858d939dc8aa6@sescro.com.br
SUMMARY:Sesc Recreação Itinerante
DESCRIPTION:Evento: Sesc Recreação ItineranteData: 6 a 9 de abrilLocal: N
 ova Mamoré
LOCATION:Online
DTSTAMP:20260422T014147Z
DTSTART:20260422T014147Z
DTEND:20260422T014147Z
END:VEVENT
END:VCALENDAR
