BEGIN:VCALENDAR
VERSION:2.0
PRODID:-//Eventin//Event Calendar//EN
CALSCALE:GREGORIAN
METHOD:PUBLISH
BEGIN:VEVENT
UID:1005fdcfcae2b331c213f348f464ac77@sescro.com.br
SUMMARY:Dia do Trabalhador
DESCRIPTION:Evento: Dia do TrabalhadorData: 1 de maioLocal: Estrada de Ferr
 o Madeira-Mamoré
LOCATION:Online
DTSTAMP:20260422T014134Z
DTSTART:20250501T040000Z
DTEND:20260422T014134Z
END:VEVENT
END:VCALENDAR
