BEGIN:VCALENDAR
VERSION:2.0
PRODID:-//Eventin//Event Calendar//EN
CALSCALE:GREGORIAN
METHOD:PUBLISH
BEGIN:VEVENT
UID:829f87e3206032ca4ab88ec7b74102cb@sescro.com.br
SUMMARY:Dia das Mães
DESCRIPTION:Evento: Dia das MãesData: 11 de maioLocal: Estrada de Ferro Ma
 deira-Mamoré
LOCATION:Online
DTSTAMP:20260421T234542Z
DTSTART:20250511T040000Z
DTEND:20260421T234542Z
END:VEVENT
END:VCALENDAR
