BEGIN:VCALENDAR
VERSION:2.0
PRODID:-//Eventin//Event Calendar//EN
CALSCALE:GREGORIAN
METHOD:PUBLISH
BEGIN:VEVENT
UID:1496c5a14246e0015e0660537a618926@sescro.com.br
SUMMARY:Dia Mundial do Brincar
DESCRIPTION:Evento: Dia Mundial do BrincarData: 25 de maioLocal: Estrada de
  Ferro Madeira-Mamoré
LOCATION:Online
DTSTAMP:20260421T234522Z
DTSTART:20250525T040000Z
DTEND:20260421T234522Z
END:VEVENT
END:VCALENDAR
