BEGIN:VCALENDAR
VERSION:2.0
PRODID:-//Eventin//Event Calendar//EN
CALSCALE:GREGORIAN
METHOD:PUBLISH
BEGIN:VEVENT
UID:8757c0f8af95b34bb82661de6a0c2b7d@sescro.com.br
SUMMARY:Lazer na Comunidade
DESCRIPTION:Evento: Lazer na ComunidadeData: 8 e 9 de maioLocal: Itapuã do
  Oeste
LOCATION:Online
DTSTAMP:20260421T234549Z
DTSTART:20250508T040000Z
DTEND:20260421T234549Z
END:VEVENT
END:VCALENDAR
