BEGIN:VCALENDAR
VERSION:2.0
PRODID:-//Eventin//Event Calendar//EN
CALSCALE:GREGORIAN
METHOD:PUBLISH
BEGIN:VEVENT
UID:83065657448956b5507a075e63b69e7e@sescro.com.br
SUMMARY:Sesc Recreação
DESCRIPTION:Evento: Sesc RecreaçãoData: 1\, 7\, 8\, 14\, 15\, 21\, 22\, 2
 8 e 29 de junhoLocal: Estrada de Ferro Madeira-Mamoré
LOCATION:Online
DTSTAMP:20260421T234548Z
DTSTART:20250601T040000Z
DTEND:20260421T234548Z
END:VEVENT
END:VCALENDAR
