BEGIN:VCALENDAR
VERSION:2.0
PRODID:-//Eventin//Event Calendar//EN
CALSCALE:GREGORIAN
METHOD:PUBLISH
BEGIN:VEVENT
UID:b2e9f3219db6d0fa802e8b77f29d61fc@sescro.com.br
SUMMARY:Dia Mundial do Lazer
DESCRIPTION:Evento: Dia Mundial do LazerData: 16 de abril de 2025Local: Ses
 c Nova Mamoré
LOCATION:Online
DTSTAMP:20260421T234546Z
DTSTART:20250416T040000Z
DTEND:20260421T234546Z
END:VEVENT
END:VCALENDAR
