BEGIN:VCALENDAR
VERSION:2.0
PRODID:-//Eventin//Event Calendar//EN
CALSCALE:GREGORIAN
METHOD:PUBLISH
BEGIN:VEVENT
UID:e3661c19b34fe0c5e5121920571e4374@sescro.com.br
SUMMARY:Projeto Criar Sesc
DESCRIPTION:Evento: Feira de Inovação Robótica em AçãoData: 12 de maio
  de 2025Local: Sesc Nova Mamoré
LOCATION:Online
DTSTAMP:20260421T234547Z
DTSTART:20250512T040000Z
DTEND:20260421T234547Z
END:VEVENT
END:VCALENDAR
