BEGIN:VCALENDAR
VERSION:2.0
PRODID:-//Eventin//Event Calendar//EN
CALSCALE:GREGORIAN
METHOD:PUBLISH
BEGIN:VEVENT
UID:b7a30485257fe4c921cabe81cefaff16@sescro.com.br
SUMMARY:Copa Sesc
DESCRIPTION:Evento: Copa SescData: 15 e 16 de maio de 2025Local: Sesc Nova 
 Mamoré
LOCATION:Online
DTSTAMP:20260421T234523Z
DTSTART:20250515T040000Z
DTEND:20260421T234523Z
END:VEVENT
END:VCALENDAR
